BEGIN:VCALENDAR
VERSION:2.0
CALSCALE:GREGORIAN
PRODID:adamgibbons/ics
METHOD:PUBLISH
X-PUBLISHED-TTL:PT1H
BEGIN:VEVENT
UID:664@chicagol.askapunk.net
SUMMARY:Tunnel\, Trash.com\, Tijuana Hercules\, Bobby Conn
DTSTAMP:20260421T021658Z
DTSTART:20260516T230000Z
URL:https://chicago.askapunk.net/event/tunnel-trashcom-tijuana-hercules-bob
	by-conn
LOCATION:Not Not - Email for more info
STATUS:CONFIRMED
CATEGORIES:Tunnel,art punk,no wave,not not,post punk,post-punk
END:VEVENT
END:VCALENDAR
